BEGIN:VCALENDAR
VERSION:2.0
PRODID:SchoolNow
CALSCALE:GREGORIAN
BEGIN:VEVENT
UID:73516318-ded2-11e9-9aa5-0a6c45c2924a
DTSTAMP:20200408T164344Z
SUMMARY:School Board Meeting - April 14\, 2020
LOCATION:Gardiner Building
URL;VALUE=URI:https://www.laurelschools.org/board-of-trustees/calendar/2103
 651/school-board-meeting-april-14-2020
DTSTART:20200414T150000Z
DTEND:20200414T160000Z
END:VEVENT
END:VCALENDAR
