BEGIN:VCALENDAR
VERSION:2.0
PRODID:SchoolNow
CALSCALE:GREGORIAN
BEGIN:VEVENT
UID:85760030-ded2-11e9-a6b7-0a6c45c2924a
DTSTAMP:20200511T182757Z
SUMMARY:School Board Meeting - May 12\, 2020
LOCATION:Gardiner Building
URL;VALUE=URI:https://www.laurelschools.org/board-of-trustees/calendar/2103
 653/school-board-meeting-may-12-2020
DTSTART:20200512T150000Z
DTEND:20200512T180000Z
END:VEVENT
END:VCALENDAR
