BEGIN:VCALENDAR
VERSION:2.0
PRODID:SchoolNow
CALSCALE:GREGORIAN
BEGIN:VEVENT
UID:86530554-896b-11ea-88fc-0a4822e243bb
DTSTAMP:20200428T161707Z
SUMMARY:Special Called Board Meeting
LOCATION:Gardiner Building
URL;VALUE=URI:https://www.laurelschools.org/board-of-trustees/calendar/2242
 679/special-called-board-meeting
DTSTART:20200429T150000Z
DTEND:20200429T160000Z
END:VEVENT
END:VCALENDAR
