BEGIN:VCALENDAR
VERSION:2.0
PRODID:SchoolNow
CALSCALE:GREGORIAN
BEGIN:VEVENT
UID:93ddf8ba-d73a-11ea-81fe-12c599677405
DTSTAMP:20200805T164805Z
SUMMARY:School Board Meeting Nov. 10\, 2020
LOCATION:Gardiner
URL;VALUE=URI:https://www.laurelschools.org/board-of-trustees/calendar/2299
 701/school-board-meeting-nov-10-2020
DTSTART:20201110T230000Z
DTEND:20201111T000000Z
END:VEVENT
END:VCALENDAR
