BEGIN:VCALENDAR
VERSION:2.0
PRODID:SchoolNow
CALSCALE:GREGORIAN
BEGIN:VEVENT
UID:91c4cd06-9dbc-11ed-b671-0aef87f3db1d
DTSTAMP:20230126T210251Z
SUMMARY:School Board Meeting July 25\, 2023
URL;VALUE=URI:https://www.laurelschools.org/board-of-trustees/calendar/3693
 179/school-board-meeting
DTSTART:20230725T220000Z
DTEND:20230725T230000Z
END:VEVENT
END:VCALENDAR
