BEGIN:VCALENDAR
VERSION:2.0
PRODID:SchoolNow
CALSCALE:GREGORIAN
BEGIN:VEVENT
UID:1511a026-9dbd-11ed-82d2-0aef87f3db1d
DTSTAMP:20230126T210454Z
SUMMARY:School Board Meeting August 8\, 2023
URL;VALUE=URI:https://www.laurelschools.org/board-of-trustees/calendar/3693
 180/school-board-meeting-august-8-2023
DTSTART:20230808T220000Z
DTEND:20230808T230000Z
END:VEVENT
END:VCALENDAR
