BEGIN:VCALENDAR
VERSION:2.0
PRODID:SchoolNow
CALSCALE:GREGORIAN
BEGIN:VEVENT
UID:fca4d35e-330e-11ee-8d5a-020e34789605
DTSTAMP:20230804T213701Z
SUMMARY:Public Budget Hearing Aug. 8\, 2023
LOCATION:Gardiner Building
URL;VALUE=URI:https://www.laurelschools.org/board-of-trustees/calendar/4548
 486/public-budget-hearing
DTSTART:20230808T210000Z
DTEND:20230808T213000Z
END:VEVENT
END:VCALENDAR
