BEGIN:VCALENDAR
VERSION:2.0
PRODID:SchoolNow
CALSCALE:GREGORIAN
BEGIN:VEVENT
UID:37b3b6ce-4118-11ee-b57d-0a58a9feac02
DTSTAMP:20230822T181756Z
SUMMARY:Special Called Board Meeting August 24\, 2023
URL;VALUE=URI:https://www.laurelschools.org/board-of-trustees/calendar/4610
 047/special-called-board-meeting-august-24-2023
DTSTART:20230824T230000Z
DTEND:20230825T000000Z
END:VEVENT
END:VCALENDAR
