BEGIN:VCALENDAR
VERSION:2.0
PRODID:SchoolNow
CALSCALE:GREGORIAN
BEGIN:VEVENT
UID:8ff78706-deda-11e9-9c17-0a4508347012
DTSTAMP:20190924T144951Z
SUMMARY:Professional Development/Teacher Work Day - May 22\, 2020
URL;VALUE=URI:https://www.laurelschools.org/calendar/2103667/professional-d
 evelopment-teacher-work-day-may-22-2020
DTSTART;VALUE=DATE:20200522
DTEND;VALUE=DATE:20200523
END:VEVENT
END:VCALENDAR
