BEGIN:VCALENDAR
VERSION:2.0
PRODID:SchoolNow
CALSCALE:GREGORIAN
BEGIN:VEVENT
UID:9f6d1d62-dee0-11e9-8227-0a4508347012
DTSTAMP:20190924T172632Z
SUMMARY:Easter Break/Good Friday - April 10\, 2020
URL;VALUE=URI:https://www.laurelschools.org/calendar/2103700/easter-break-g
 ood-friday-april-10-2020
DTSTART;VALUE=DATE:20200410
DTEND;VALUE=DATE:20200411
END:VEVENT
END:VCALENDAR
