BEGIN:VCALENDAR
VERSION:2.0
PRODID:SchoolNow
CALSCALE:GREGORIAN
BEGIN:VEVENT
UID:943d2f30-def0-11e9-9488-12b172756d40
DTSTAMP:20190924T172727Z
SUMMARY:Progress Reports sent home - April 23\, 2020
URL;VALUE=URI:https://www.laurelschools.org/calendar/2103743/progress-repor
 ts-sent-home-april-23-2020
DTSTART;VALUE=DATE:20200423
DTEND;VALUE=DATE:20200424
END:VEVENT
END:VCALENDAR
