BEGIN:VCALENDAR
VERSION:2.0
PRODID:SchoolNow
CALSCALE:GREGORIAN
BEGIN:VEVENT
UID:cb5a8102-def0-11e9-a16d-12b172756d40
DTSTAMP:20190924T172859Z
SUMMARY:Graduation - May 19\, 2020
URL;VALUE=URI:https://www.laurelschools.org/calendar/2103744/graduation-may
 -19-2020
DTSTART;VALUE=DATE:20200519
DTEND;VALUE=DATE:20200520
END:VEVENT
END:VCALENDAR
