BEGIN:VCALENDAR
VERSION:2.0
PRODID:SchoolNow
CALSCALE:GREGORIAN
BEGIN:VEVENT
UID:eac40f2c-def0-11e9-8b55-12b172756d40
DTSTAMP:20190924T173451Z
SUMMARY:60% Day for Students/Professional Development - May 21\, 2020
URL;VALUE=URI:https://www.laurelschools.org/calendar/2103745/60-day-for-stu
 dents-professional-development-may-21-2020
DTSTART;VALUE=DATE:20200521
DTEND;VALUE=DATE:20200522
END:VEVENT
END:VCALENDAR
