BEGIN:VCALENDAR
VERSION:2.0
PRODID:SchoolNow
CALSCALE:GREGORIAN
BEGIN:VEVENT
UID:1d4537dc-def1-11e9-b9ef-12b172756d40
DTSTAMP:20190924T173117Z
SUMMARY:Memorial Day - May 25\, 2020
URL;VALUE=URI:https://www.laurelschools.org/calendar/2103746/memorial-day-m
 ay-25-2020
DTSTART;VALUE=DATE:20200525
DTEND;VALUE=DATE:20200526
END:VEVENT
END:VCALENDAR
