BEGIN:VCALENDAR
VERSION:2.0
PRODID:SchoolNow
CALSCALE:GREGORIAN
BEGIN:VEVENT
UID:492fb660-def1-11e9-9b27-12b172756d40
DTSTAMP:20190924T173230Z
SUMMARY:Eleven-Month Employees Last Day - June 11\, 2020
URL;VALUE=URI:https://www.laurelschools.org/calendar/2103747/eleven-month-e
 mployees-last-day-june-11-2020
DTSTART;VALUE=DATE:20200611
DTEND;VALUE=DATE:20200612
END:VEVENT
END:VCALENDAR
