BEGIN:VCALENDAR
VERSION:2.0
PRODID:SchoolNow
CALSCALE:GREGORIAN
BEGIN:VEVENT
UID:658f20ca-def1-11e9-8364-12b172756d40
DTSTAMP:20190924T173318Z
SUMMARY:Ten-Month & Secretaries Last Day - June 4\, 2020
URL;VALUE=URI:https://www.laurelschools.org/calendar/2103748/ten-month-secr
 etaries-last-day-june-4-2020
DTSTART;VALUE=DATE:20200604
DTEND;VALUE=DATE:20200605
END:VEVENT
END:VCALENDAR
