BEGIN:VCALENDAR
VERSION:2.0
PRODID:SchoolNow
CALSCALE:GREGORIAN
BEGIN:VEVENT
UID:b3dea6ba-def1-11e9-8ee8-12b172756d40
DTSTAMP:20190924T173529Z
SUMMARY:4th Nine Weeks Ends / Second Semester Ends / Report Cards sent home
  - May 21\, 2020
URL;VALUE=URI:https://www.laurelschools.org/calendar/2103751/4th-nine-weeks
 -ends-second-semester-ends-report-cards-sent-home-may-21-2020
DTSTART;VALUE=DATE:20200521
DTEND;VALUE=DATE:20200522
END:VEVENT
END:VCALENDAR
