BEGIN:VCALENDAR
VERSION:2.0
PRODID:SchoolNow
CALSCALE:GREGORIAN
BEGIN:VEVENT
UID:227352a0-ac20-11ea-8b29-12da52396613
DTSTAMP:20200611T201420Z
SUMMARY:IDEA Public Budget Hearing June 24\, 2020 at 3 pm
LOCATION:Gardiner Building
URL;VALUE=URI:https://www.laurelschools.org/calendar/2260185/idea-public-bu
 dget-hearing-june-24-2020-at-3-pm
DTSTART:20200624T200000Z
DTEND:20200624T210000Z
END:VEVENT
END:VCALENDAR
