BEGIN:VCALENDAR
VERSION:2.0
PRODID:SchoolNow
CALSCALE:GREGORIAN
BEGIN:VEVENT
UID:2d54055c-bf9e-11ea-85ee-12804d697ec1
DTSTAMP:20200805T164950Z
SUMMARY:First Nine Weeks Ends Oct. 23
URL;VALUE=URI:https://www.laurelschools.org/calendar/2273084/first-nine-wee
 ks-ends-oct-23
DTSTART;VALUE=DATE:20201023
DTEND;VALUE=DATE:20201024
END:VEVENT
END:VCALENDAR
