BEGIN:VCALENDAR
VERSION:2.0
PRODID:SchoolNow
CALSCALE:GREGORIAN
BEGIN:VEVENT
UID:3e38077e-bf9e-11ea-9f06-12804d697ec1
DTSTAMP:20200805T161427Z
SUMMARY:Second Nine Weeks Begins Oct. 26
URL;VALUE=URI:https://www.laurelschools.org/calendar/2273085/second-nine-we
 eks-begins-oct-26
DTSTART;VALUE=DATE:20201026
DTEND;VALUE=DATE:20201027
END:VEVENT
END:VCALENDAR
