BEGIN:VCALENDAR
VERSION:2.0
PRODID:SchoolNow
CALSCALE:GREGORIAN
BEGIN:VEVENT
UID:be988d80-bf9e-11ea-9784-12804d697ec1
DTSTAMP:20201022T182225Z
SUMMARY:Report Cards Sent Home Nov 2
LOCATION:All Schools
URL;VALUE=URI:https://www.laurelschools.org/calendar/2273089/report-cards-c
 ent-home-nov-2
DTSTART:20201102T060000Z
DTEND:20201103T055900Z
END:VEVENT
END:VCALENDAR
