BEGIN:VCALENDAR
VERSION:2.0
PRODID:SchoolNow
CALSCALE:GREGORIAN
BEGIN:VEVENT
UID:8663f8fc-bfa6-11ea-8761-1200bd3b7d9b
DTSTAMP:20200805T165042Z
SUMMARY:Progress Reports Sent Home Dec. 7
LOCATION:All Schools
URL;VALUE=URI:https://www.laurelschools.org/calendar/2273093/progress-repor
 ts-sent-home-dec-7
DTSTART:20201207T060000Z
DTEND:20201208T055900Z
END:VEVENT
END:VCALENDAR
