BEGIN:VCALENDAR
VERSION:2.0
PRODID:SchoolNow
CALSCALE:GREGORIAN
BEGIN:VEVENT
UID:9a258fe4-bfa7-11ea-b499-0a62c3415913
DTSTAMP:20201020T133807Z
SUMMARY:Christmas Break Dec. 21 - Jan. 1
URL;VALUE=URI:https://www.laurelschools.org/calendar/2273103/christmas-brea
 k-dec-23-jan-1
DTSTART:20201221T060000Z
DTEND:20210102T055900Z
END:VEVENT
END:VCALENDAR
