BEGIN:VCALENDAR
VERSION:2.0
PRODID:SchoolNow
CALSCALE:GREGORIAN
BEGIN:VEVENT
UID:5f4ab18a-9e78-11ed-883c-02aaf71f46e3
DTSTAMP:20230127T192535Z
SUMMARY:Independence Day (Offices Closed) July 3-4\, 2023
URL;VALUE=URI:https://www.laurelschools.org/calendar/3695663/independence-d
 ay-offices-closed-july-3-4-2023
DTSTART;VALUE=DATE:20230703
DTEND;VALUE=DATE:20230705
END:VEVENT
END:VCALENDAR
