BEGIN:VCALENDAR
VERSION:2.0
PRODID:SchoolNow
CALSCALE:GREGORIAN
BEGIN:VEVENT
UID:745c7e64-9e78-11ed-a8d1-02aaf71f46e3
DTSTAMP:20230127T192610Z
SUMMARY:PD Days for Teachers/Staff July 18-21\, 2023
URL;VALUE=URI:https://www.laurelschools.org/calendar/3695664/pd-days-for-te
 achers-staff-july-18-21-2023
DTSTART;VALUE=DATE:20230718
DTEND;VALUE=DATE:20230722
END:VEVENT
END:VCALENDAR
