BEGIN:VCALENDAR
VERSION:2.0
PRODID:SchoolNow
CALSCALE:GREGORIAN
BEGIN:VEVENT
UID:83534150-9e78-11ed-a8a8-02aaf71f46e3
DTSTAMP:20230127T192635Z
SUMMARY:Student's 1st Day July 24\, 2023
URL;VALUE=URI:https://www.laurelschools.org/calendar/3695665/students-1st-d
 ay-july-24-2023
DTSTART;VALUE=DATE:20230724
DTEND;VALUE=DATE:20230725
END:VEVENT
END:VCALENDAR
