BEGIN:VCALENDAR
VERSION:2.0
PRODID:SchoolNow
CALSCALE:GREGORIAN
BEGIN:VEVENT
UID:beae459c-9e78-11ed-bfcf-02aaf71f46e3
DTSTAMP:20230127T192815Z
SUMMARY:Progress Reports August 23\, 2023
URL;VALUE=URI:https://www.laurelschools.org/calendar/3695668/progress-repor
 ts-august-23-2023
DTSTART;VALUE=DATE:20230823
DTEND;VALUE=DATE:20230824
END:VEVENT
END:VCALENDAR
