BEGIN:VCALENDAR
VERSION:2.0
PRODID:SchoolNow
CALSCALE:GREGORIAN
BEGIN:VEVENT
UID:aabb7fd0-0f90-11ee-882d-0a6006a20b37
DTSTAMP:20230620T173518Z
SUMMARY:OPE Open House/Meet the Teacher - July 20th from 5 pm - 7 pm
URL;VALUE=URI:https://www.laurelschools.org/calendar/4413685/ope-open-house
 -meet-the-teacher
DTSTART:20230720T220000Z
DTEND:20230721T000000Z
END:VEVENT
END:VCALENDAR
