BEGIN:VCALENDAR
VERSION:2.0
PRODID:SchoolNow
CALSCALE:GREGORIAN
BEGIN:VEVENT
UID:46b05dea-1c0f-11ee-9451-02b0137163b1
DTSTAMP:20230706T151043Z
SUMMARY:Laurel High School: 2023-2024 Open House and Orientation
URL;VALUE=URI:https://www.laurelschools.org/calendar/4474351/laurel-high-sc
 hool-2023-2024-open-house-and-orientation
DTSTART:20230719T220000Z
DTEND:20230719T230000Z
END:VEVENT
END:VCALENDAR
