BEGIN:VCALENDAR
VERSION:2.0
PRODID:SchoolNow
CALSCALE:GREGORIAN
BEGIN:VEVENT
UID:a2dbd8e8-c20d-11ee-b38d-02ddb0fb0fa7
DTSTAMP:20240202T205711Z
SUMMARY:Fall Break - No School
URL;VALUE=URI:https://www.laurelschools.org/calendar/5248347/fall-break-no-
 school
DTSTART;VALUE=DATE:20240923
DTEND;VALUE=DATE:20241008
END:VEVENT
END:VCALENDAR
