BEGIN:VCALENDAR
VERSION:2.0
PRODID:SchoolNow
CALSCALE:GREGORIAN
BEGIN:VEVENT
UID:b544a816-c212-11ee-b708-0a5ffd5f9ba5
DTSTAMP:20240202T213330Z
SUMMARY:Report Card
URL;VALUE=URI:https://www.laurelschools.org/calendar/5248376/report-card
DTSTART;VALUE=DATE:20241010
DTEND;VALUE=DATE:20241011
END:VEVENT
END:VCALENDAR
