BEGIN:VCALENDAR
VERSION:2.0
PRODID:SchoolNow
CALSCALE:GREGORIAN
BEGIN:VEVENT
UID:bed07206-8680-11ef-9717-0affc98f998f
DTSTAMP:20241009T205458Z
SUMMARY:LMS Hispanic Heritage Program
URL;VALUE=URI:https://www.laurelschools.org/calendar/6792984/lms-hispanic-h
 eritage-program
DTSTART:20241015T193000Z
DTEND:20241015T203000Z
END:VEVENT
END:VCALENDAR
