BEGIN:VCALENDAR
VERSION:2.0
PRODID:SchoolNow
CALSCALE:GREGORIAN
BEGIN:VEVENT
UID:99f09f04-6eef-11ef-b196-02528a88509b
DTSTAMP:20240909T210803Z
SUMMARY:MDE Regional Family Literacy Night
URL;VALUE=URI:https://www.laurelschools.org/oak-park-elementary-school/cale
 ndar/6562318/mde-regional-family-literacy-night
DTSTART:20240917T230000Z
DTEND:20240918T000000Z
ATTACH;FILENAME=Laurel MDE Regional Family Night Flyer (2).pdf;FMTTYPE=appl
 ication/pdf:https://campussuite-storage.s3.amazonaws.com/prod/1558847/766c
 c242-d345-11e9-8241-0acb374d1020/2844251/688ab152-6eef-11ef-bdcd-0a58a9fea
 c02/file/Laurel MDE Regional Family Night Flyer (2).pdf
END:VEVENT
END:VCALENDAR
