BEGIN:VCALENDAR
VERSION:2.0
PRODID:SchoolNow
CALSCALE:GREGORIAN
BEGIN:VEVENT
UID:eb935ea2-9c88-11ef-bf05-0a58a9feac02
DTSTAMP:20250110T215146Z
SUMMARY:Superintendent's Super Sessions
URL;VALUE=URI:https://www.laurelschools.org/oak-park-elementary-school/cale
 ndar/6972043/superintendents-super-sessions
DTSTART:20250116T233000Z
DTEND:20250117T003000Z
END:VEVENT
END:VCALENDAR
