BEGIN:VCALENDAR
VERSION:2.0
PRODID:SchoolNow
CALSCALE:GREGORIAN
BEGIN:VEVENT
UID:786da350-9c89-11ef-b93a-0a58a9feac02
DTSTAMP:20241106T215251Z
SUMMARY:Superintendent's Super Sessions
URL;VALUE=URI:https://www.laurelschools.org/oak-park-elementary-school/cale
 ndar/6972057/superintendents-super-sessions
DTSTART:20250327T223000Z
DTEND:20250327T233000Z
END:VEVENT
END:VCALENDAR
